BEGIN:VCALENDAR
VERSION:2.0
PRODID:-//ChurchDev//Events//EN
CALSCALE:GREGORIAN
METHOD:PUBLISH
BEGIN:VEVENT
UID:33485-20250222@www.summitstafford.com
SUMMARY:Boy Scout Event-sanctuary and fellowship hall
DTSTART:20250222T200000Z
DTEND:20250223T000000Z
DESCRIPTION:https://www.summitstafford.com/events/boy-scout-event-sanctuary-and-fellowship-hall/
LOCATION:256 Shelton Shop Rd  Stafford\, VA 22554
URL:https://www.summitstafford.com/events/boy-scout-event-sanctuary-and-fellowship-hall/
DTSTAMP:20260426T010245Z
END:VEVENT
END:VCALENDAR
